BEGIN:VCALENDAR
VERSION:2.0
PRODID:icalendar-ruby
CALSCALE:GREGORIAN
METHOD:PUBLISH
BEGIN:VEVENT
DTSTAMP:20260422T201226Z
UID:8-1189263@frontlineremnant.org
DTSTART:20260905T160000Z
DTEND:20260905T180000Z
CLASS:PUBLIC
CREATED:20260422T123056
DESCRIPTION:
LAST-MODIFIED:20260422T123056
LOCATION:For location\, go to our Facebook Page
SUMMARY:Weekly Gathering
URL;VALUE=URI:https://frontlineremnant.org/events/weekly-gathering/2026-09-
 05
END:VEVENT
END:VCALENDAR
