BEGIN:VCALENDAR
VERSION:2.0
PRODID:icalendar-ruby
CALSCALE:GREGORIAN
METHOD:PUBLISH
BEGIN:VEVENT
DTSTAMP:20260422T213328Z
UID:8-1189326@frontlineremnant.org
DTSTART:20260912T160000Z
DTEND:20260912T180000Z
CLASS:PUBLIC
CREATED:20260422T152619
DESCRIPTION:
LAST-MODIFIED:20260422T152619
LOCATION:For location\, go to our Facebook Page
SUMMARY:Weekly Gathering
URL;VALUE=URI:https://frontlineremnant.org/events/weekly-gathering/2026-09-
 12
END:VEVENT
END:VCALENDAR
