BEGIN:VCALENDAR
VERSION:2.0
PRODID:icalendar-ruby
CALSCALE:GREGORIAN
METHOD:PUBLISH
BEGIN:VEVENT
DTSTAMP:20260422T225743Z
UID:8-1189327@frontlineremnant.org
DTSTART:20260919T160000Z
DTEND:20260919T180000Z
CLASS:PUBLIC
CREATED:20260422T152619
DESCRIPTION:
LAST-MODIFIED:20260422T152619
LOCATION:For location\, go to our Facebook Page
SUMMARY:Weekly Gathering
URL;VALUE=URI:https://frontlineremnant.org/events/weekly-gathering/2026-09-
 19
END:VEVENT
END:VCALENDAR
