BEGIN:VCALENDAR
VERSION:2.0
PRODID:icalendar-ruby
CALSCALE:GREGORIAN
METHOD:PUBLISH
BEGIN:VEVENT
DTSTAMP:20260423T030115Z
UID:8-1189392@frontlineremnant.org
DTSTART:20261010T160000Z
DTEND:20261010T180000Z
CLASS:PUBLIC
CREATED:20260422T181749
DESCRIPTION:
LAST-MODIFIED:20260422T181749
LOCATION:For location\, go to our Facebook Page
SUMMARY:Weekly Gathering
URL;VALUE=URI:https://frontlineremnant.org/events/weekly-gathering/2026-10-
 10
END:VEVENT
END:VCALENDAR
