BEGIN:VCALENDAR
VERSION:2.0
PRODID:icalendar-ruby
CALSCALE:GREGORIAN
METHOD:PUBLISH
BEGIN:VEVENT
DTSTAMP:20260423T043109Z
UID:8-1189455@frontlineremnant.org
DTSTART:20261017T160000Z
DTEND:20261017T180000Z
CLASS:PUBLIC
CREATED:20260422T211213
DESCRIPTION:
LAST-MODIFIED:20260422T211213
LOCATION:For location\, go to our Facebook Page
SUMMARY:Weekly Gathering
URL;VALUE=URI:https://frontlineremnant.org/events/weekly-gathering/2026-10-
 17
END:VEVENT
END:VCALENDAR
